Workbook

Sheet SUMMARY
F1: #VALUE!
D7: BILL OF QUANTITIES
D8: ACSA KSIA POWER FACTOR CORRECTION UPGRADE
D11: SUMMARY OF BILL OF QUANTITIES - Tender BoQ
D13: SECTION | E13: DESCRIPTION | G13: AMOUNT
D15: SECTION 1 | E15: PRELIMINARIES AND GENERAL | G15: ='SECTION 1-P&G'!H30 -> 70000
D16: SECTION 2 | E16: MSP LV Switchroom | G16: ='SECT 2- MSP LV SR'!$J$76 -> 0
D17: SECTION 3 | E17: ATC LV Switchroom | G17: 0
D18: SECTION 4 | E18: Airside Substation 1 | G18: ='SECT 4- AIRSIDE SS 1'!$J$76 -> 0
D19: SECTION 5 | E19: Airside Substation 2 | G19: ='SECT 5- AIRSIDE SS 2'!$J$72 -> 0
D20: SECTION 6 | E20: Airside Substation 3 | G20: ='SECT 6- AIRSIDE SS 3'!$J$65 -> 0
D21: SECTION 7 | E21: Airside Substation 4 | G21: ='SECT 7- AIRSIDE SS 4'!$J$80 -> 0
D22: SECTION 8 | E22: Terminal Building Substation A2 | G22: ='SECT 8- TERMINAL BDG SS A2'!$J$85 -> 0
D23: SECTION 9 | E23: Sky Tanking - Fuel Storage Depot MCC | G23: ='SECT 9- SKY TANK FSD 2'!$J$83 -> 0
D24: SECTION 10 | E24: Sky Tanking - Forward Fuel Depot MCC | G24: ='SECT 10 - SKY TANK FFD'!$J$68 -> 0
D25: SECTION 11 | E25: General | G25: ='SECT 11 - GENERAL'!$J$22 -> 1000000
E26: SUB-TOTAL | G26: =SUM($G$15:$G$25) -> 1070000
E27: Contract skills development goal (CSDG) @ 0.25% | G27: =G26*0.25% -> 2675
E28: Contingency @ 10% | G28: =0.1*$G$26 -> 107000
E29: TOTAL (Excl.VAT) | G29: =$G$26+$G$28+G27 -> 1179675
D30: ADD | E30: VAT @ 15% | G30: =$G$29*0.15 -> 176951.25
E31: TOTAL (INCL. VAT) | G31: =$G$29+$G$30 -> 1356626.2
D32: The Bill of Quantities (BoQ) shall be submitted in PRINTED PDF format, duly completed, signed and shall form part of the NEC3 Engineering and Construction Contract (ECC).
D34: BIDDING ENTITY/COMPANY : ___________________________________________ SIGNATURE (Duly Authorised) : __________________________________________ DATE: _______________ NAME: ____________________________________________________

Sheet SECTION 1-P&G
G1: #VALUE!
C7: BILL OF QUANTITIES
C8: =SUMMARY!D8 -> ACSA KSIA POWER FACTOR CORRECTION UPGRADE
C9: SECTION 1: PRELIMINARIES AND GENERAL
C11: ITEM No. | D11: DESCRIPTION | E11: UNIT | F11: QUANTITY | G11: RATE | H11: TOTAL EXCL VAT
D13: REFER TO ATTACHED DOCUMENTS FOR DETAILS:
D14: In accordance with the conditions of Contract, provide for all expenses, obligations and general items pertaining to such conditions and all items not specifically specified or mentioned to enable the works to be completed in a satisfactory manner.
C16: 1 | D16: Fixed Charge Items
C17: 1.1 | D17: Site camp establishment including fencing, clearing the area and project Notice Board | E17: Sum | F17: 1 | H17: =G17*F17 -> 0
C18: 1.2 | D18: Office and storage sheds/containers and Ablutions | E18: Sum | F18: 1 | H18: =G18*F18 -> 0
C19: 1.3 | D19: Travelling and Transportation costs | E19: Sum | F19: 1 | H19: =G19*F19 -> 0
C20: 1.4 | D20: Preparation of Health & Safety File, attendance of site Health and Safety meetings, and compliance with the Health and Safety Act. | E20: Sum | F20: 1 | H20: =G20*F20 -> 0
C21: 1.5 | D21: Provision of barricades, danger tape, warning signs, First Aid Kits etc. | E21: Sum | F21: 1 | H21: =G21*F21 -> 0
C22: 1.6 | D22: Contractors Design conducted by Electrical Engineer (ECSA registered) | E22: Sum | F22: 1 | H22: =G22*F22 -> 0
C23: 1.7 | D23: As-builts: Three sets of electronic and hard copies of "As- built" drawings, test certificates, operating and maintenance manuals and Commissioning report to be submitted to Engineer on hand-over. | E23: Sum | F23: 1 | H23: =G23*F23 -> 0
C24: 1.8 | D24: Training of employer’s staff (30 persons). Training to encompass full Operation & Maintenance procedures & activities | E24: Sum | F24: 1 | H24: =G24*F24 -> 0
C25: 1.9 | D25: Cleaning/Site Rehab of site upon completion, including de-establishment | E25: Sum | F25: 1 | H25: =G25*F25 -> 0
C26: 1.10 | D26: Provisional sum for ACSA safety inductions for access, permits and parking | E26: Sum | F26: 1 | G26: 70000 | H26: =G26*F26 -> 70000
C27: 2 | D27: Time Related Items
C28: 2.1 | D28: Provision of Full time Health & Safety Officer for duration of contract (SACPCMP registered) | E28: Months | F28: 24 | H28: =G28*F28 -> 0
C29: 2.2 | D29: Provision of security guards (24 hours per day, 7 days a week) | E29: Months | F29: 24 | H29: =G29*F29 -> 0
D30: TOTAL CARRIED TO SUMMARY PAGE (EXCL VAT) | H30: =SUM(H17:H29) -> 70000
C31: The Bill of Quantities (BoQ) shall be submitted in PRINTED PDF format, duly completed, signed and shall form part of the NEC3 Engineering and Construction Contract (ECC).
C32: BIDDING ENTITY/COMPANY : ___________________________________________ SIGNATURE (Duly Authorised) : __________________________________________ DATE: _______________ NAME: ____________________________________________________

Sheet SECT 2- L Block Old 
A1: BILL OF QUANTITIES
A2: ='[1]SECTION 1-P&G'!A2:K2 -> MUT - Alternative Energy supply
A3: SECTION 2: SOLAR PV / BATTERY SYSTEM
C4: A | D4: B | E4: C | F4: D | G4: E | H4: F | I4: G | J4: H | K4: I | L4: J | M4: K
A5: ITEM No. | B5: DESCRIPTION | C5: UNIT | D5: QUANTITY | E5: SUPPLY RATE (COST) | F5: MARK UP % | G5: SUPPLY RATE (MARKED UP) | H5: Install Rate | I5: MARK UP % | J5: INSTALL RATE (Marked up) | K5: LABOUR TOTAL | L5: RATE (E+H) | M5: TOTAL (BxJ)
A7: 2 | D7: INVERTERS, SOLAR PV MODULES, BATTERIES, AC EQUIPMENT & CABLING
A9: 2.1 | D9: Solar PV Panels
A11: 2.1.2 | B11: L block Old -Supply, Deliver, Install, Test & Commission 550W Canadian Solar Super High Power Mono PERC or Equivalent to Engineer's approval. Inclusive of earthing & bonding complete | C11: ea | D11: =109 -> 109 | E11: =1623.93 -> 1623.93 | F11: 0.25 | G11: =E11/(1-F11) -> 2165.24 | H11: 350 | I11: 0.15 | J11: =H11*(1+I11) -> 402.5 | K11: =J11*D11 -> 43872.5 | L11: =G11+J11 -> 2567.74 | M11: =D11*L11 -> 279883.66
A13: 2.2 | D13: Inverters
A14: 2.2.2 | B14: L Block Old-Supply, Deliver, Install, Test & Commission 50kW 3P Sunsynk hybrid inverter | C14: No. | D14: 2 | E14: 87286.19 | F14: 0.2 | G14: =E14/(1-F14) -> 109107.74 | H14: =(550*8)+3600 -> 8000 | I14: 0.15 | J14: =H14*(1+I14) -> 9200 | K14: =J14*D14 -> 18400 | L14: =G14+J14 -> 118307.74 | M14: =D14*L14 -> 236615.48
A16: 2.3 | D16: Automatic Transfer Switch (ATS)
A17: 2.3.2 | B17: L Block Old Supply, Deliver, Install, Test & Commission Changeover Switch | C17: No. | D17: 1 | E17: 20000 | F17: 0.2 | G17: =E17/(1-F17) -> 25000 | H17: =(550*4)+3500 -> 5700 | I17: 0.15 | J17: =H17*(1+I17) -> 6555 | K17: =J17*D17 -> 6555 | L17: =G17+J17 -> 31555 | M17: =D17*L17 -> 31555
A18: 2.3.3 | B18: L Block Old Supply, Deliver, Install, Test & Commission Elum SD Genset controller | C18: No. | D18: 1 | E18: 70000 | F18: 0.2 | G18: =E18/(1-F18) -> 87500 | H18: =(550*4)+3500 -> 5700 | I18: 0.15 | J18: =H18*(1+I18) -> 6555 | K18: =J18*D18 -> 6555 | L18: =G18+J18 -> 94055 | M18: =D18*L18 -> 94055
A19: 2.4 | D19: Battery System
A20: 2.4.1 | B20: L Block Old-Supply, Deliver, Install, Test & Commission Lithium Batteries to provide backup. 200/160 HV | C20: Sum | D20: 2 | E20: =906452.58*1.2 -> 1087743.1 | F20: 0.2 | G20: =E20/(1-F20) -> 1359678.9 | H20: =(550*8)+3600 -> 8000 | I20: 0.15 | J20: =H20*(1+I20) -> 9200 | K20: =J20*D20 -> 18400 | L20: =G20+J20 -> 1368878.9 | M20: =D20*L20 -> 2737757.7
A22: 2.4.4
B23: Supply, Deliver, Install, Test & Commission Fuse Disconnectors with 250A fuses for Battery | C23: No. | D23: 4 | E23: =1888.71*1.15 -> 2172.0165 | F23: 0.2 | G23: =E23/(1-F23) -> 2715.0206 | H23: =250*1 -> 250 | I23: 0.15 | J23: =H23*(1+I23) -> 287.5 | K23: =J23*D23 -> 1150 | L23: =G23+J23 -> 3002.5206 | M23: =D23*L23 -> 12010.082
A25: 2.5 | D25: Mounting Structure, Clamps & Walkways
A26: 2.5.1 | B26: Mounting Structures. Material to be aluminium and must include a 10 year warranty | C26: ea | D26: 109 | E26: 650 | F26: 0.2 | G26: =E26/(1-F26) -> 812.5 | H26: =(((5*200)*4)*1.2)/D26 -> 44.036697 | I26: 0.15 | J26: =H26*(1+I26) -> 50.642202 | K26: =J26*D26 -> 5520 | L26: =G26+J26 -> 863.1422 | M26: =D26*L26 -> 94082.5
B27: Cable Support/Wireways etc. Material to be galvanized steel | C27: Sum | D27: 1 | E27: =10000 -> 10000 | F27: 0.2 | G27: =E27/(1-F27) -> 12500 | H27: =2500*3 -> 7500 | I27: 0.15 | J27: =H27*(1+I27) -> 8625 | K27: =J27*D27 -> 8625 | L27: =G27+J27 -> 21125 | M27: =D27*L27 -> 21125
A29: 2.6 | D29: DC Cabling
A30: 2.6.1 | B30: 4mmsq Solar PV DC cables from panels to DC combiner box. Red cable for positive (+) and Black cable for negative (-) to SANS10142-1. UV resistant to EN50618 & TUV certified. Including MC4 connectors complete | C30: m | D30: 230 | E30: =14.85*1.15 -> 17.0775 | F30: 0.2 | G30: =E30/(1-F30) -> 21.346875 | H30: =39 -> 39 | I30: 0.15 | J30: =H30*(1+I30) -> 44.85 | K30: =J30*D30 -> 10315.5 | L30: =G30+J30 -> 66.196875 | M30: =D30*L30 -> 15225.281
A31: 2.6.2 | B31: 70mm2 Single core DC cable for Batteries | C31: m | D31: 6 | E31: =180*1.15 -> 207 | F31: 0.2 | G31: =E31/(1-F31) -> 258.75 | H31: =65 -> 65 | I31: 0.15 | J31: =H31*(1+I31) -> 74.75 | K31: =J31*D31 -> 448.5 | L31: =G31+J31 -> 333.5 | M31: =D31*L31 -> 2001
A32: 2.6.3 | B32: 50mm2 Single core DC cable for Batteries | C32: m | D32: 0 | E32: =190 -> 190 | F32: 0.2 | G32: =E32/(1-F32) -> 237.5 | H32: =65 -> 65 | I32: 0.15 | J32: =H32*(1+I32) -> 74.75 | K32: =J32*D32 -> 0 | L32: =G32+J32 -> 312.25 | M32: =D32*L32 -> 0
B33: 25mm2 Single core DC cable for Batteries | C33: m | D33: 0 | E33: =110 -> 110 | F33: 0.2 | G33: =E33/(1-F33) -> 137.5 | H33: =65 -> 65 | I33: 0.15 | J33: =H33*(1+I33) -> 74.75 | K33: =J33*D33 -> 0 | L33: =G33+J33 -> 212.25 | M33: =D33*L33 -> 0
A35: 2.7 | D35: DC Combiner Box
A36: 2.7.1 | B36: DC Combiner Box including the ffg components: 1000V rating, 1 X MPPT, 8 Inputs & 1 Output, 160A Isolator, Type 1 & 2 Surge Protection device, Inclusive of fuses. | C36: No. | D36: 1 | E36: =13501.37*1.2 -> 16201.644 | F36: 0.2 | G36: =E36/(1-F36) -> 20252.055 | H36: =250*2 -> 500 | I36: 0.15 | J36: =H36*(1+I36) -> 575 | K36: =J36*D36 -> 575 | L36: =G36+J36 -> 20827.055 | M36: =D36*L36 -> 20827.055
A37: 2.7.2 | B37: DC Combiner Box including the ffg components: 1000V rating, 4 X MPPT, 8 Inputs & 8 Output, 160A Isolator, Type 1 & 2 Surge Protection device, Inclusive of fuses. | C37: No. | D37: 0 | E37: =13501.37*1.2 -> 16201.644 | F37: 0.2 | G37: =E37/(1-F37) -> 20252.055 | H37: =250*2 -> 500 | I37: 0.15 | J37: =H37*(1+I37) -> 575 | K37: =J37*D37 -> 0 | L37: =G37+J37 -> 20827.055 | M37: =D37*L37 -> 0
A39: 2.8 | D39: Circuit Breakers
A41: 2.8.1 | B41: Supply, Deliver, Install new 400V, 200A, 6kA, 3P,adjustable MCCB | C41: No. | D41: 2 | E41: 2500 | F41: 0.2 | G41: =E41/(1-F41) -> 3125 | H41: =(250+100)*4 -> 1400 | I41: 0.15 | J41: =H41*(1+I41) -> 1610 | K41: =J41*D41 -> 3220 | L41: =G41+J41 -> 4735 | M41: =D41*L41 -> 9470
A43: 2.8.2 | B43: Supply, Deliver, Install new 400V, 150A, 6kA, 4P, adjustable MCCB | C43: No. | D43: 0 | E43: 1800 | F43: 0.2 | G43: =E43/(1-F43) -> 2250 | H43: =(250+100)*4 -> 1400 | I43: 0.15 | J43: =H43*(1+I43) -> 1610 | K43: =J43*D43 -> 0 | L43: =G43+J43 -> 3860 | M43: =D43*L43 -> 0
A45: 2.8.3 | B45: Supply, Deliver, Install new 400V, 80A, 6kA, 3P, MCB | C45: No. | D45: =2 + N("Isolators") -> 2 | E45: 1734.1 | F45: 0.2 | G45: =E45/(1-F45) -> 2167.625 | H45: =(250+100)*4 -> 1400 | I45: 0.15 | J45: =H45*(1+I45) -> 1610 | K45: =J45*D45 -> 3220 | L45: =G45+J45 -> 3777.625 | M45: =D45*L45 -> 7555.25
A47: 2.8.4 | B47: Supply, Deliver, Install new 400V, 80A, 4P N/O Contactor | C47: No. | D47: 1 | E47: =550*1.2 -> 660 | F47: 0.2 | G47: =E47/(1-F47) -> 825 | H47: =(250+100)*4 -> 1400 | I47: 0.15 | J47: =H47*(1+I47) -> 1610 | K47: =J47*D47 -> 1610 | L47: =G47+J47 -> 2435 | M47: =D47*L47 -> 2435
A49: 2.9 | D49: Distribution Boards
A51: 2.9.1 | B51: Supply, Deliver, Install new 8-way LV Distribution Board | C51: No. | D51: 0 | E51: 2500 | F51: 0.2 | G51: =E51/(1-F51) -> 3125 | H51: =250*1 -> 250 | I51: 0.15 | J51: =H51*(1+I51) -> 287.5 | K51: =J51*D51 -> 0 | L51: =G51+J51 -> 3412.5 | M51: =D51*L51 -> 0
A53: 2.9.2 | B53: Supply, Deliver, Install new 16-way LV Distribution Board | C53: No. | D53: 3 | E53: 5729 | F53: 0.2 | G53: =E53/(1-F53) -> 7161.25 | H53: 250 | I53: 0.15 | J53: =H53*(1+I53) -> 287.5 | K53: =J53*D53 -> 862.5 | L53: =G53+J53 -> 7448.75 | M53: =D53*L53 -> 22346.25
A55: 2.9.3 | B55: Supply, Deliver, Install Surge Arrestor Din 3 Pole+Neutral 20kA 1.3kV type 1 & 2 | C55: No. | D55: 1 | E55: =5729 -> 5729 | F55: 0.2 | G55: =E55/(1-F55) -> 7161.25 | H55: 250 | I55: 0.15 | J55: =H55*(1+I55) -> 287.5 | K55: =J55*D55 -> 287.5 | L55: =G55+J55 -> 7448.75 | M55: =D55*L55 -> 7448.75
A57: 2.9.4 | B57: Supply, Deliver, Install new 300/5A, 10VA Current transformers as required to integrate the new system | C57: No. | D57: 3 | E57: 350 | F57: 0.2 | G57: =E57/(1-F57) -> 437.5 | H57: 250 | I57: 0.15 | J57: =H57*(1+I57) -> 287.5 | K57: =J57*D57 -> 862.5 | L57: =G57+J57 -> 725 | M57: =D57*L57 -> 2175
A59: 2.9.5 | B59: Supply, Deliver, Install & Terminate 7C, 4mm control cable between CT's and Inverter | C59: m | D59: 2 | E59: =35 -> 35 | F59: 0.2 | G59: =E59/(1-F59) -> 43.75 | H59: =(65*3) -> 195 | I59: 0.15 | J59: =H59*(1+I59) -> 224.25 | K59: =J59*D59 -> 448.5 | L59: =G59+J59 -> 268 | M59: =D59*L59 -> 536
A61: 2.9.6 | B61: Disconnect & Remove existing equipment as per scope of works | C61: Sum | D61: 1 | E61: 1 | F61: 0.2 | G61: =E61/(1-F61) -> 1.25 | H61: =2500*3 -> 7500 | I61: 0.15 | J61: =H61*(1+I61) -> 8625 | K61: =J61*D61 -> 8625 | L61: =G61+J61 -> 8626.25 | M61: =D61*L61 -> 8626.25
...

Sheet SECT 2- L Block Old - 0 PV
A1: BILL OF QUANTITIES
A2: ='[1]SECTION 1-P&G'!A2:K2 -> MUT - Alternative Energy supply
A3: SECTION 2: SOLAR PV / BATTERY SYSTEM
C4: A | D4: B | E4: C | F4: D | G4: E | H4: F | I4: G | J4: H | K4: I | L4: J | M4: K
A5: ITEM No. | B5: DESCRIPTION | C5: UNIT | D5: QUANTITY | E5: SUPPLY RATE (COST) | F5: MARK UP % | G5: SUPPLY RATE (MARKED UP) | H5: Install Rate | I5: MARK UP % | J5: INSTALL RATE (Marked up) | K5: LABOUR TOTAL | L5: RATE (E+H) | M5: TOTAL (BxJ)
A7: 2 | D7: INVERTERS, SOLAR PV MODULES, BATTERIES, AC EQUIPMENT & CABLING
A9: 2.1 | D9: Solar PV Panels
A11: 2.1.2 | B11: L block Old -Supply, Deliver, Install, Test & Commission 550W Canadian Solar Super High Power Mono PERC or Equivalent to Engineer's approval. Inclusive of earthing & bonding complete | C11: ea | D11: 1 | E11: =1623.93 -> 1623.93 | F11: 0.25 | G11: =E11/(1-F11) -> 2165.24 | H11: 350 | I11: 0.15 | J11: =H11*(1+I11) -> 402.5 | K11: =J11*D11 -> 402.5 | L11: =G11+J11 -> 2567.74 | M11: =D11*L11 -> 2567.74
A13: 2.2 | D13: Inverters
A14: 2.2.2 | B14: L Block Old-Supply, Deliver, Install, Test & Commission 50kW 3P Sunsynk hybrid inverter | C14: No. | D14: 2 | E14: 87286.19 | F14: 0.2 | G14: =E14/(1-F14) -> 109107.74 | H14: =(550*8)+3600 -> 8000 | I14: 0.15 | J14: =H14*(1+I14) -> 9200 | K14: =J14*D14 -> 18400 | L14: =G14+J14 -> 118307.74 | M14: =D14*L14 -> 236615.48
A16: 2.3 | D16: Automatic Transfer Switch (ATS)
A17: 2.3.2 | B17: L Block Old Supply, Deliver, Install, Test & Commission Changeover Switch | C17: No. | D17: 1 | E17: 20000 | F17: 0.2 | G17: =E17/(1-F17) -> 25000 | H17: =(550*4)+3500 -> 5700 | I17: 0.15 | J17: =H17*(1+I17) -> 6555 | K17: =J17*D17 -> 6555 | L17: =G17+J17 -> 31555 | M17: =D17*L17 -> 31555
A18: 2.3.3 | B18: L Block Old Supply, Deliver, Install, Test & Commission Elum SD Genset controller | C18: No. | D18: 1 | E18: 70000 | F18: 0.2 | G18: =E18/(1-F18) -> 87500 | H18: =(550*4)+3500 -> 5700 | I18: 0.15 | J18: =H18*(1+I18) -> 6555 | K18: =J18*D18 -> 6555 | L18: =G18+J18 -> 94055 | M18: =D18*L18 -> 94055
A19: 2.4 | D19: Battery System
A20: 2.4.1 | B20: L Block Old-Supply, Deliver, Install, Test & Commission Lithium Batteries to provide backup. 200/160 HV | C20: Sum | D20: 2 | E20: =906452.58*1.2 -> 1087743.1 | F20: 0.2 | G20: =E20/(1-F20) -> 1359678.9 | H20: =(550*8)+3600 -> 8000 | I20: 0.15 | J20: =H20*(1+I20) -> 9200 | K20: =J20*D20 -> 18400 | L20: =G20+J20 -> 1368878.9 | M20: =D20*L20 -> 2737757.7
A22: 2.4.4
B23: Supply, Deliver, Install, Test & Commission Fuse Disconnectors with 250A fuses for Battery | C23: No. | D23: 4 | E23: =1888.71*1.15 -> 2172.0165 | F23: 0.2 | G23: =E23/(1-F23) -> 2715.0206 | H23: =250*1 -> 250 | I23: 0.15 | J23: =H23*(1+I23) -> 287.5 | K23: =J23*D23 -> 1150 | L23: =G23+J23 -> 3002.5206 | M23: =D23*L23 -> 12010.082
A25: 2.5 | D25: Mounting Structure, Clamps & Walkways
A26: 2.5.1 | B26: Mounting Structures. Material to be aluminium and must include a 10 year warranty | C26: ea | D26: 1 | E26: 650 | F26: 0.2 | G26: =E26/(1-F26) -> 812.5 | H26: =(((5*200)*4)*1.2)/D26 -> 4800 | I26: 0.15 | J26: =H26*(1+I26) -> 5520 | K26: =J26*D26 -> 5520 | L26: =G26+J26 -> 6332.5 | M26: =D26*L26 -> 6332.5
B27: Cable Support/Wireways etc. Material to be galvanized steel | C27: Sum | D27: 1 | E27: =10000 -> 10000 | F27: 0.2 | G27: =E27/(1-F27) -> 12500 | H27: =2500*3 -> 7500 | I27: 0.15 | J27: =H27*(1+I27) -> 8625 | K27: =J27*D27 -> 8625 | L27: =G27+J27 -> 21125 | M27: =D27*L27 -> 21125
A29: 2.6 | D29: DC Cabling
A30: 2.6.1 | B30: 4mmsq Solar PV DC cables from panels to DC combiner box. Red cable for positive (+) and Black cable for negative (-) to SANS10142-1. UV resistant to EN50618 & TUV certified. Including MC4 connectors complete | C30: m | D30: 0 | E30: =14.85*1.15 -> 17.0775 | F30: 0.2 | G30: =E30/(1-F30) -> 21.346875 | H30: =39 -> 39 | I30: 0.15 | J30: =H30*(1+I30) -> 44.85 | K30: =J30*D30 -> 0 | L30: =G30+J30 -> 66.196875 | M30: =D30*L30 -> 0
A31: 2.6.2 | B31: 70mm2 Single core DC cable for Batteries | C31: m | D31: 6 | E31: =180*1.15 -> 207 | F31: 0.2 | G31: =E31/(1-F31) -> 258.75 | H31: =65 -> 65 | I31: 0.15 | J31: =H31*(1+I31) -> 74.75 | K31: =J31*D31 -> 448.5 | L31: =G31+J31 -> 333.5 | M31: =D31*L31 -> 2001
A32: 2.6.3 | B32: 50mm2 Single core DC cable for Batteries | C32: m | D32: 0 | E32: =190 -> 190 | F32: 0.2 | G32: =E32/(1-F32) -> 237.5 | H32: =65 -> 65 | I32: 0.15 | J32: =H32*(1+I32) -> 74.75 | K32: =J32*D32 -> 0 | L32: =G32+J32 -> 312.25 | M32: =D32*L32 -> 0
B33: 25mm2 Single core DC cable for Batteries | C33: m | D33: 0 | E33: =110 -> 110 | F33: 0.2 | G33: =E33/(1-F33) -> 137.5 | H33: =65 -> 65 | I33: 0.15 | J33: =H33*(1+I33) -> 74.75 | K33: =J33*D33 -> 0 | L33: =G33+J33 -> 212.25 | M33: =D33*L33 -> 0
A35: 2.7 | D35: DC Combiner Box
A36: 2.7.1 | B36: DC Combiner Box including the ffg components: 1000V rating, 1 X MPPT, 8 Inputs & 1 Output, 160A Isolator, Type 1 & 2 Surge Protection device, Inclusive of fuses. | C36: No. | D36: 0 | E36: =13501.37*1.2 -> 16201.644 | F36: 0.2 | G36: =E36/(1-F36) -> 20252.055 | H36: =250*2 -> 500 | I36: 0.15 | J36: =H36*(1+I36) -> 575 | K36: =J36*D36 -> 0 | L36: =G36+J36 -> 20827.055 | M36: =D36*L36 -> 0
A37: 2.7.2 | B37: DC Combiner Box including the ffg components: 1000V rating, 4 X MPPT, 8 Inputs & 8 Output, 160A Isolator, Type 1 & 2 Surge Protection device, Inclusive of fuses. | C37: No. | D37: 0 | E37: =13501.37*1.2 -> 16201.644 | F37: 0.2 | G37: =E37/(1-F37) -> 20252.055 | H37: =250*2 -> 500 | I37: 0.15 | J37: =H37*(1+I37) -> 575 | K37: =J37*D37 -> 0 | L37: =G37+J37 -> 20827.055 | M37: =D37*L37 -> 0
A39: 2.8 | D39: Circuit Breakers
A41: 2.8.1 | B41: Supply, Deliver, Install new 400V, 200A, 6kA, 3P,adjustable MCCB | C41: No. | D41: 2 | E41: 2500 | F41: 0.2 | G41: =E41/(1-F41) -> 3125 | H41: =(250+100)*4 -> 1400 | I41: 0.15 | J41: =H41*(1+I41) -> 1610 | K41: =J41*D41 -> 3220 | L41: =G41+J41 -> 4735 | M41: =D41*L41 -> 9470
A43: 2.8.2 | B43: Supply, Deliver, Install new 400V, 150A, 6kA, 4P, adjustable MCCB | C43: No. | D43: 0 | E43: 1800 | F43: 0.2 | G43: =E43/(1-F43) -> 2250 | H43: =(250+100)*4 -> 1400 | I43: 0.15 | J43: =H43*(1+I43) -> 1610 | K43: =J43*D43 -> 0 | L43: =G43+J43 -> 3860 | M43: =D43*L43 -> 0
A45: 2.8.3 | B45: Supply, Deliver, Install new 400V, 80A, 6kA, 3P, MCB | C45: No. | D45: =2 + N("Isolators") -> 2 | E45: 1734.1 | F45: 0.2 | G45: =E45/(1-F45) -> 2167.625 | H45: =(250+100)*4 -> 1400 | I45: 0.15 | J45: =H45*(1+I45) -> 1610 | K45: =J45*D45 -> 3220 | L45: =G45+J45 -> 3777.625 | M45: =D45*L45 -> 7555.25
A47: 2.8.4 | B47: Supply, Deliver, Install new 400V, 80A, 4P N/O Contactor | C47: No. | D47: 1 | E47: =550*1.2 -> 660 | F47: 0.2 | G47: =E47/(1-F47) -> 825 | H47: =(250+100)*4 -> 1400 | I47: 0.15 | J47: =H47*(1+I47) -> 1610 | K47: =J47*D47 -> 1610 | L47: =G47+J47 -> 2435 | M47: =D47*L47 -> 2435
A49: 2.9 | D49: Distribution Boards
A51: 2.9.1 | B51: Supply, Deliver, Install new 8-way LV Distribution Board | C51: No. | D51: 0 | E51: 2500 | F51: 0.2 | G51: =E51/(1-F51) -> 3125 | H51: =250*1 -> 250 | I51: 0.15 | J51: =H51*(1+I51) -> 287.5 | K51: =J51*D51 -> 0 | L51: =G51+J51 -> 3412.5 | M51: =D51*L51 -> 0
A53: 2.9.2 | B53: Supply, Deliver, Install new 16-way LV Distribution Board | C53: No. | D53: 3 | E53: 5729 | F53: 0.2 | G53: =E53/(1-F53) -> 7161.25 | H53: 250 | I53: 0.15 | J53: =H53*(1+I53) -> 287.5 | K53: =J53*D53 -> 862.5 | L53: =G53+J53 -> 7448.75 | M53: =D53*L53 -> 22346.25
A55: 2.9.3 | B55: Supply, Deliver, Install Surge Arrestor Din 3 Pole+Neutral 20kA 1.3kV type 1 & 2 | C55: No. | D55: 1 | E55: =5729 -> 5729 | F55: 0.2 | G55: =E55/(1-F55) -> 7161.25 | H55: 250 | I55: 0.15 | J55: =H55*(1+I55) -> 287.5 | K55: =J55*D55 -> 287.5 | L55: =G55+J55 -> 7448.75 | M55: =D55*L55 -> 7448.75
A57: 2.9.4 | B57: Supply, Deliver, Install new 300/5A, 10VA Current transformers as required to integrate the new system | C57: No. | D57: 3 | E57: 350 | F57: 0.2 | G57: =E57/(1-F57) -> 437.5 | H57: 250 | I57: 0.15 | J57: =H57*(1+I57) -> 287.5 | K57: =J57*D57 -> 862.5 | L57: =G57+J57 -> 725 | M57: =D57*L57 -> 2175
A59: 2.9.5 | B59: Supply, Deliver, Install & Terminate 7C, 4mm control cable between CT's and Inverter | C59: m | D59: 2 | E59: =35 -> 35 | F59: 0.2 | G59: =E59/(1-F59) -> 43.75 | H59: =(65*3) -> 195 | I59: 0.15 | J59: =H59*(1+I59) -> 224.25 | K59: =J59*D59 -> 448.5 | L59: =G59+J59 -> 268 | M59: =D59*L59 -> 536
A61: 2.9.6 | B61: Disconnect & Remove existing equipment as per scope of works | C61: Sum | D61: 1 | E61: 1 | F61: 0.2 | G61: =E61/(1-F61) -> 1.25 | H61: =2500*3 -> 7500 | I61: 0.15 | J61: =H61*(1+I61) -> 8625 | K61: =J61*D61 -> 8625 | L61: =G61+J61 -> 8626.25 | M61: =D61*L61 -> 8626.25
...

Sheet SECT 2- L Block Old - 0PV&2.5hr
A1: BILL OF QUANTITIES
A2: ='[1]SECTION 1-P&G'!A2:K2 -> MUT - Alternative Energy supply
A3: SECTION 2: SOLAR PV / BATTERY SYSTEM
C4: A | D4: B | E4: C | F4: D | G4: E | H4: F | I4: G | J4: H | K4: I | L4: J | M4: K
A5: ITEM No. | B5: DESCRIPTION | C5: UNIT | D5: QUANTITY | E5: SUPPLY RATE (COST) | F5: MARK UP % | G5: SUPPLY RATE (MARKED UP) | H5: Install Rate | I5: MARK UP % | J5: INSTALL RATE (Marked up) | K5: LABOUR TOTAL | L5: RATE (E+H) | M5: TOTAL (BxJ)
A7: 2 | D7: INVERTERS, SOLAR PV MODULES, BATTERIES, AC EQUIPMENT & CABLING
A9: 2.1 | D9: Solar PV Panels
A11: 2.1.2 | B11: L block Old -Supply, Deliver, Install, Test & Commission 550W Canadian Solar Super High Power Mono PERC or Equivalent to Engineer's approval. Inclusive of earthing & bonding complete | C11: ea | D11: 0 | E11: =1623.93 -> 1623.93 | F11: 0.25 | G11: =E11/(1-F11) -> 2165.24 | H11: 350 | I11: 0.15 | J11: =H11*(1+I11) -> 402.5 | K11: =J11*D11 -> 0 | L11: =G11+J11 -> 2567.74 | M11: =D11*L11 -> 0
A13: 2.2 | D13: Inverters
A14: 2.2.2 | B14: L Block Old-Supply, Deliver, Install, Test & Commission 50kW 3P Sunsynk hybrid inverter | C14: No. | D14: 2 | E14: 87286.19 | F14: 0.2 | G14: =E14/(1-F14) -> 109107.74 | H14: =(550*8)+3600 -> 8000 | I14: 0.15 | J14: =H14*(1+I14) -> 9200 | K14: =J14*D14 -> 18400 | L14: =G14+J14 -> 118307.74 | M14: =D14*L14 -> 236615.48
A16: 2.3 | D16: Automatic Transfer Switch (ATS)
A17: 2.3.2 | B17: L Block Old Supply, Deliver, Install, Test & Commission Changeover Switch | C17: No. | D17: 1 | E17: 20000 | F17: 0.2 | G17: =E17/(1-F17) -> 25000 | H17: =(550*4)+3500 -> 5700 | I17: 0.15 | J17: =H17*(1+I17) -> 6555 | K17: =J17*D17 -> 6555 | L17: =G17+J17 -> 31555 | M17: =D17*L17 -> 31555
A18: 2.3.3 | B18: L Block Old Supply, Deliver, Install, Test & Commission Elum SD Genset controller | C18: No. | D18: 1 | E18: 70000 | F18: 0.2 | G18: =E18/(1-F18) -> 87500 | H18: =(550*4)+3500 -> 5700 | I18: 0.15 | J18: =H18*(1+I18) -> 6555 | K18: =J18*D18 -> 6555 | L18: =G18+J18 -> 94055 | M18: =D18*L18 -> 94055
A19: 2.4 | D19: Battery System
A20: 2.4.1 | B20: L Block Old-Supply, Deliver, Install, Test & Commission Lithium Batteries to provide backup. 100/80 HV | C20: Sum | D20: 2 | E20: =460896.21*1.2 -> 553075.45 | F20: 0.2 | G20: =E20/(1-F20) -> 691344.32 | H20: =(550*8)+3600 -> 8000 | I20: 0.15 | J20: =H20*(1+I20) -> 9200 | K20: =J20*D20 -> 18400 | L20: =G20+J20 -> 700544.32 | M20: =D20*L20 -> 1401088.6
A22: 2.4.4
B23: Supply, Deliver, Install, Test & Commission Fuse Disconnectors with 250A fuses for Battery | C23: No. | D23: 2 | E23: =1888.71*1.15 -> 2172.0165 | F23: 0.2 | G23: =E23/(1-F23) -> 2715.0206 | H23: =250*1 -> 250 | I23: 0.15 | J23: =H23*(1+I23) -> 287.5 | K23: =J23*D23 -> 575 | L23: =G23+J23 -> 3002.5206 | M23: =D23*L23 -> 6005.0412
A25: 2.5 | D25: Mounting Structure, Clamps & Walkways
A26: 2.5.1 | B26: Mounting Structures. Material to be aluminium and must include a 10 year warranty | C26: ea | D26: 1 | E26: 650 | F26: 0.2 | G26: =E26/(1-F26) -> 812.5 | H26: =(((5*200)*4)*1.2)/D26 -> 4800 | I26: 0.15 | J26: =H26*(1+I26) -> 5520 | K26: =J26*D26 -> 5520 | L26: =G26+J26 -> 6332.5 | M26: =D26*L26 -> 6332.5
B27: Cable Support/Wireways etc. Material to be galvanized steel | C27: Sum | D27: 1 | E27: =10000 -> 10000 | F27: 0.2 | G27: =E27/(1-F27) -> 12500 | H27: =2500*3 -> 7500 | I27: 0.15 | J27: =H27*(1+I27) -> 8625 | K27: =J27*D27 -> 8625 | L27: =G27+J27 -> 21125 | M27: =D27*L27 -> 21125
A29: 2.6 | D29: DC Cabling
A30: 2.6.1 | B30: 4mmsq Solar PV DC cables from panels to DC combiner box. Red cable for positive (+) and Black cable for negative (-) to SANS10142-1. UV resistant to EN50618 & TUV certified. Including MC4 connectors complete | C30: m | D30: 0 | E30: =14.85*1.15 -> 17.0775 | F30: 0.2 | G30: =E30/(1-F30) -> 21.346875 | H30: =39 -> 39 | I30: 0.15 | J30: =H30*(1+I30) -> 44.85 | K30: =J30*D30 -> 0 | L30: =G30+J30 -> 66.196875 | M30: =D30*L30 -> 0
A31: 2.6.2 | B31: 70mm2 Single core DC cable for Batteries | C31: m | D31: 6 | E31: =180*1.15 -> 207 | F31: 0.2 | G31: =E31/(1-F31) -> 258.75 | H31: =65 -> 65 | I31: 0.15 | J31: =H31*(1+I31) -> 74.75 | K31: =J31*D31 -> 448.5 | L31: =G31+J31 -> 333.5 | M31: =D31*L31 -> 2001
A32: 2.6.3 | B32: 50mm2 Single core DC cable for Batteries | C32: m | D32: 0 | E32: =190 -> 190 | F32: 0.2 | G32: =E32/(1-F32) -> 237.5 | H32: =65 -> 65 | I32: 0.15 | J32: =H32*(1+I32) -> 74.75 | K32: =J32*D32 -> 0 | L32: =G32+J32 -> 312.25 | M32: =D32*L32 -> 0
B33: 25mm2 Single core DC cable for Batteries | C33: m | D33: 0 | E33: =110 -> 110 | F33: 0.2 | G33: =E33/(1-F33) -> 137.5 | H33: =65 -> 65 | I33: 0.15 | J33: =H33*(1+I33) -> 74.75 | K33: =J33*D33 -> 0 | L33: =G33+J33 -> 212.25 | M33: =D33*L33 -> 0
A35: 2.7 | D35: DC Combiner Box
A36: 2.7.1 | B36: DC Combiner Box including the ffg components: 1000V rating, 1 X MPPT, 8 Inputs & 1 Output, 160A Isolator, Type 1 & 2 Surge Protection device, Inclusive of fuses. | C36: No. | D36: 0 | E36: =13501.37*1.2 -> 16201.644 | F36: 0.2 | G36: =E36/(1-F36) -> 20252.055 | H36: =250*2 -> 500 | I36: 0.15 | J36: =H36*(1+I36) -> 575 | K36: =J36*D36 -> 0 | L36: =G36+J36 -> 20827.055 | M36: =D36*L36 -> 0
A37: 2.7.2 | B37: DC Combiner Box including the ffg components: 1000V rating, 4 X MPPT, 8 Inputs & 8 Output, 160A Isolator, Type 1 & 2 Surge Protection device, Inclusive of fuses. | C37: No. | D37: 0 | E37: =13501.37*1.2 -> 16201.644 | F37: 0.2 | G37: =E37/(1-F37) -> 20252.055 | H37: =250*2 -> 500 | I37: 0.15 | J37: =H37*(1+I37) -> 575 | K37: =J37*D37 -> 0 | L37: =G37+J37 -> 20827.055 | M37: =D37*L37 -> 0
A39: 2.8 | D39: Circuit Breakers
A41: 2.8.1 | B41: Supply, Deliver, Install new 400V, 200A, 6kA, 3P,adjustable MCCB | C41: No. | D41: 2 | E41: 2500 | F41: 0.2 | G41: =E41/(1-F41) -> 3125 | H41: =(250+100)*4 -> 1400 | I41: 0.15 | J41: =H41*(1+I41) -> 1610 | K41: =J41*D41 -> 3220 | L41: =G41+J41 -> 4735 | M41: =D41*L41 -> 9470
A43: 2.8.2 | B43: Supply, Deliver, Install new 400V, 150A, 6kA, 4P, adjustable MCCB | C43: No. | D43: 0 | E43: 1800 | F43: 0.2 | G43: =E43/(1-F43) -> 2250 | H43: =(250+100)*4 -> 1400 | I43: 0.15 | J43: =H43*(1+I43) -> 1610 | K43: =J43*D43 -> 0 | L43: =G43+J43 -> 3860 | M43: =D43*L43 -> 0
A45: 2.8.3 | B45: Supply, Deliver, Install new 400V, 80A, 6kA, 3P, MCB | C45: No. | D45: =2 + N("Isolators") -> 2 | E45: 1734.1 | F45: 0.2 | G45: =E45/(1-F45) -> 2167.625 | H45: =(250+100)*4 -> 1400 | I45: 0.15 | J45: =H45*(1+I45) -> 1610 | K45: =J45*D45 -> 3220 | L45: =G45+J45 -> 3777.625 | M45: =D45*L45 -> 7555.25
A47: 2.8.4 | B47: Supply, Deliver, Install new 400V, 80A, 4P N/O Contactor | C47: No. | D47: 1 | E47: =550*1.2 -> 660 | F47: 0.2 | G47: =E47/(1-F47) -> 825 | H47: =(250+100)*4 -> 1400 | I47: 0.15 | J47: =H47*(1+I47) -> 1610 | K47: =J47*D47 -> 1610 | L47: =G47+J47 -> 2435 | M47: =D47*L47 -> 2435
A49: 2.9 | D49: Distribution Boards
A51: 2.9.1 | B51: Supply, Deliver, Install new 8-way LV Distribution Board | C51: No. | D51: 0 | E51: 2500 | F51: 0.2 | G51: =E51/(1-F51) -> 3125 | H51: =250*1 -> 250 | I51: 0.15 | J51: =H51*(1+I51) -> 287.5 | K51: =J51*D51 -> 0 | L51: =G51+J51 -> 3412.5 | M51: =D51*L51 -> 0
A53: 2.9.2 | B53: Supply, Deliver, Install new 16-way LV Distribution Board | C53: No. | D53: 3 | E53: 5729 | F53: 0.2 | G53: =E53/(1-F53) -> 7161.25 | H53: 250 | I53: 0.15 | J53: =H53*(1+I53) -> 287.5 | K53: =J53*D53 -> 862.5 | L53: =G53+J53 -> 7448.75 | M53: =D53*L53 -> 22346.25
A55: 2.9.3 | B55: Supply, Deliver, Install Surge Arrestor Din 3 Pole+Neutral 20kA 1.3kV type 1 & 2 | C55: No. | D55: 1 | E55: =5729 -> 5729 | F55: 0.2 | G55: =E55/(1-F55) -> 7161.25 | H55: 250 | I55: 0.15 | J55: =H55*(1+I55) -> 287.5 | K55: =J55*D55 -> 287.5 | L55: =G55+J55 -> 7448.75 | M55: =D55*L55 -> 7448.75
A57: 2.9.4 | B57: Supply, Deliver, Install new 300/5A, 10VA Current transformers as required to integrate the new system | C57: No. | D57: 3 | E57: 350 | F57: 0.2 | G57: =E57/(1-F57) -> 437.5 | H57: 250 | I57: 0.15 | J57: =H57*(1+I57) -> 287.5 | K57: =J57*D57 -> 862.5 | L57: =G57+J57 -> 725 | M57: =D57*L57 -> 2175
A59: 2.9.5 | B59: Supply, Deliver, Install & Terminate 7C, 4mm control cable between CT's and Inverter | C59: m | D59: 2 | E59: =35 -> 35 | F59: 0.2 | G59: =E59/(1-F59) -> 43.75 | H59: =(65*3) -> 195 | I59: 0.15 | J59: =H59*(1+I59) -> 224.25 | K59: =J59*D59 -> 448.5 | L59: =G59+J59 -> 268 | M59: =D59*L59 -> 536
A61: 2.9.6 | B61: Disconnect & Remove existing equipment as per scope of works | C61: Sum | D61: 1 | E61: 1 | F61: 0.2 | G61: =E61/(1-F61) -> 1.25 | H61: =2500*3 -> 7500 | I61: 0.15 | J61: =H61*(1+I61) -> 8625 | K61: =J61*D61 -> 8625 | L61: =G61+J61 -> 8626.25 | M61: =D61*L61 -> 8626.25
...

Sheet SECT 2- L Block New
A1: BILL OF QUANTITIES
A2: ='[1]SECTION 1-P&G'!A2:K2 -> MUT - Alternative Energy supply
A3: SECTION 2: SOLAR PV / BATTERY SYSTEM
C4: A | D4: B | E4: C | F4: D | G4: E | H4: F | I4: G | J4: H | K4: I | L4: J | M4: K
A5: ITEM No. | B5: DESCRIPTION | C5: UNIT | D5: QUANTITY | E5: SUPPLY RATE (COST) | F5: MARK UP % | G5: SUPPLY RATE (MARKED UP) | H5: Install Rate | I5: MARK UP % | J5: INSTALL RATE (Marked up) | K5: LABOUR TOTAL | L5: RATE (E+H) | M5: TOTAL (BxJ)
A7: 2 | D7: INVERTERS, SOLAR PV MODULES, BATTERIES, AC EQUIPMENT & CABLING
A9: 2.1 | D9: Solar PV Panels
A11: 2.1.2 | B11: L block New -Supply, Deliver, Install, Test & Commission 550W Canadian Solar Super High Power Mono PERC or Equivalent to Engineer's approval. Inclusive of earthing & bonding complete | C11: ea | D11: 86 | E11: =1623.93 -> 1623.93 | F11: 0.25 | G11: =E11/(1-F11) -> 2165.24 | H11: 350 | I11: 0.15 | J11: =H11*(1+I11) -> 402.5 | K11: =J11*D11 -> 34615 | L11: =G11+J11 -> 2567.74 | M11: =D11*L11 -> 220825.64
A13: 2.2 | D13: Inverters
A14: 2.2.2 | B14: L Block New-Supply, Deliver, Install, Test & Commission 50kW 3P Sunsynk hybrid inverter | C14: No. | D14: 3 | E14: 87286.19 | F14: 0.2 | G14: =E14/(1-F14) -> 109107.74 | H14: =(550*8)+3600 -> 8000 | I14: 0.15 | J14: =H14*(1+I14) -> 9200 | K14: =J14*D14 -> 27600 | L14: =G14+J14 -> 118307.74 | M14: =D14*L14 -> 354923.21
A16: 2.3 | D16: Automatic Transfer Switch (ATS)
A17: 2.3.2 | B17: L Block New Supply, Deliver, Install, Test & Commission Changeover Switch | C17: No. | D17: 1 | E17: 20000 | F17: 0.2 | G17: =E17/(1-F17) -> 25000 | H17: =(550*4)+3500 -> 5700 | I17: 0.15 | J17: =H17*(1+I17) -> 6555 | K17: =J17*D17 -> 6555 | L17: =G17+J17 -> 31555 | M17: =D17*L17 -> 31555
A18: 2.3.3 | B18: L Block Old Supply, Deliver, Install, Test & Commission Elum SD Genset controller | C18: No. | D18: 1 | E18: 70000 | F18: 0.2 | G18: =E18/(1-F18) -> 87500 | H18: =(550*4)+3500 -> 5700 | I18: 0.15 | J18: =H18*(1+I18) -> 6555 | K18: =J18*D18 -> 6555 | L18: =G18+J18 -> 94055 | M18: =D18*L18 -> 94055
A19: 2.4 | D19: Battery System
A20: 2.4.1 | B20: L Block New-Supply, Deliver, Install, Test & Commission Lithium Batteries to provide backup. 200/160 HV | C20: ea | D20: 3 | E20: =906452.58*1.2 -> 1087743.1 | F20: 0.2 | G20: =E20/(1-F20) -> 1359678.9 | H20: =(550*8)+3600 -> 8000 | I20: 0.15 | J20: =H20*(1+I20) -> 9200 | K20: =J20*D20 -> 27600 | L20: =G20+J20 -> 1368878.9 | M20: =D20*L20 -> 4106636.6
A22: 2.4.4
B23: Supply, Deliver, Install, Test & Commission Fuse Disconnectors with 250A fuses for Battery | C23: No. | D23: 6 | E23: =1888.71*1.15 -> 2172.0165 | F23: 0.2 | G23: =E23/(1-F23) -> 2715.0206 | H23: =250*1 -> 250 | I23: 0.15 | J23: =H23*(1+I23) -> 287.5 | K23: =J23*D23 -> 1725 | L23: =G23+J23 -> 3002.5206 | M23: =D23*L23 -> 18015.124
A25: 2.5 | D25: Mounting Structure, Clamps & Walkways
A26: 2.5.1 | B26: Mounting Structures. Material to be aluminium and must include a 10 year warranty | C26: ea | D26: =D11 -> 86 | E26: 650 | F26: 0.2 | G26: =E26/(1-F26) -> 812.5 | H26: =(((5*200)*4)*1.2)/D26 -> 55.813953 | I26: 0.15 | J26: =H26*(1+I26) -> 64.186047 | K26: =J26*D26 -> 5520 | L26: =G26+J26 -> 876.68605 | M26: =D26*L26 -> 75395
B27: Cable Support/Wireways etc. Material to be galvanized steel | C27: Sum | D27: 1 | E27: =10000 -> 10000 | F27: 0.2 | G27: =E27/(1-F27) -> 12500 | H27: =2500*3 -> 7500 | I27: 0.15 | J27: =H27*(1+I27) -> 8625 | K27: =J27*D27 -> 8625 | L27: =G27+J27 -> 21125 | M27: =D27*L27 -> 21125
A29: 2.6 | D29: DC Cabling
A30: 2.6.1 | B30: 4mmsq Solar PV DC cables from panels to DC combiner box. Red cable for positive (+) and Black cable for negative (-) to SANS10142-1. UV resistant to EN50618 & TUV certified. Including MC4 connectors complete | C30: m | D30: 230 | E30: =14.85*1.15 -> 17.0775 | F30: 0.2 | G30: =E30/(1-F30) -> 21.346875 | H30: =39 -> 39 | I30: 0.15 | J30: =H30*(1+I30) -> 44.85 | K30: =J30*D30 -> 10315.5 | L30: =G30+J30 -> 66.196875 | M30: =D30*L30 -> 15225.281
A31: 2.6.2 | B31: 70mm2 Single core DC cable for Batteries | C31: m | D31: 6 | E31: =180*1.15 -> 207 | F31: 0.2 | G31: =E31/(1-F31) -> 258.75 | H31: =65 -> 65 | I31: 0.15 | J31: =H31*(1+I31) -> 74.75 | K31: =J31*D31 -> 448.5 | L31: =G31+J31 -> 333.5 | M31: =D31*L31 -> 2001
A32: 2.6.3 | B32: 50mm2 Single core DC cable for Batteries | C32: m | D32: 0 | E32: =190 -> 190 | F32: 0.2 | G32: =E32/(1-F32) -> 237.5 | H32: =65 -> 65 | I32: 0.15 | J32: =H32*(1+I32) -> 74.75 | K32: =J32*D32 -> 0 | L32: =G32+J32 -> 312.25 | M32: =D32*L32 -> 0
B33: 25mm2 Single core DC cable for Batteries | C33: m | D33: 0 | E33: =110 -> 110 | F33: 0.2 | G33: =E33/(1-F33) -> 137.5 | H33: =65 -> 65 | I33: 0.15 | J33: =H33*(1+I33) -> 74.75 | K33: =J33*D33 -> 0 | L33: =G33+J33 -> 212.25 | M33: =D33*L33 -> 0
A35: 2.7 | D35: DC Combiner Box
A36: 2.7.1 | B36: DC Combiner Box including the ffg components: 1000V rating, 1 X MPPT, 8 Inputs & 1 Output, 160A Isolator, Type 1 & 2 Surge Protection device, Inclusive of fuses. | C36: ea | D36: 1 | E36: =13501.37*1.2 -> 16201.644 | F36: 0.2 | G36: =E36/(1-F36) -> 20252.055 | H36: =250*2 -> 500 | I36: 0.15 | J36: =H36*(1+I36) -> 575 | K36: =J36*D36 -> 575 | L36: =G36+J36 -> 20827.055 | M36: =D36*L36 -> 20827.055
A37: 2.7.2 | B37: DC Combiner Box including the ffg components: 1000V rating, 4 X MPPT, 8 Inputs & 8 Output, 160A Isolator, Type 1 & 2 Surge Protection device, Inclusive of fuses. | C37: ea | D37: 0 | E37: =13501.37*1.2 -> 16201.644 | F37: 0.2 | G37: =E37/(1-F37) -> 20252.055 | H37: =250*2 -> 500 | I37: 0.15 | J37: =H37*(1+I37) -> 575 | K37: =J37*D37 -> 0 | L37: =G37+J37 -> 20827.055 | M37: =D37*L37 -> 0
A39: 2.8 | D39: Circuit Breakers
A41: 2.8.1 | B41: Supply, Deliver, Install new 400V, 200A, 6kA, 3P,adjustable MCCB | C41: ea | D41: 3 | E41: 2500 | F41: 0.2 | G41: =E41/(1-F41) -> 3125 | H41: =(250+100)*4 -> 1400 | I41: 0.15 | J41: =H41*(1+I41) -> 1610 | K41: =J41*D41 -> 4830 | L41: =G41+J41 -> 4735 | M41: =D41*L41 -> 14205
A43: 2.8.2 | B43: Supply, Deliver, Install new 400V, 150A, 6kA, 4P, adjustable MCCB | C43: ea | D43: 0 | E43: 1800 | F43: 0.2 | G43: =E43/(1-F43) -> 2250 | H43: =(250+100)*4 -> 1400 | I43: 0.15 | J43: =H43*(1+I43) -> 1610 | K43: =J43*D43 -> 0 | L43: =G43+J43 -> 3860 | M43: =D43*L43 -> 0
A45: 2.8.3 | B45: Supply, Deliver, Install new 400V, 80A, 6kA, 3P, MCB | C45: ea | D45: =2 + N("Isolators") -> 2 | E45: 1734.1 | F45: 0.2 | G45: =E45/(1-F45) -> 2167.625 | H45: =(250+100)*4 -> 1400 | I45: 0.15 | J45: =H45*(1+I45) -> 1610 | K45: =J45*D45 -> 3220 | L45: =G45+J45 -> 3777.625 | M45: =D45*L45 -> 7555.25
A47: 2.8.4 | B47: Supply, Deliver, Install new 400V, 80A, 4P N/O Contactor | C47: ea | D47: 1 | E47: =550*1.2 -> 660 | F47: 0.2 | G47: =E47/(1-F47) -> 825 | H47: =(250+100)*4 -> 1400 | I47: 0.15 | J47: =H47*(1+I47) -> 1610 | K47: =J47*D47 -> 1610 | L47: =G47+J47 -> 2435 | M47: =D47*L47 -> 2435
A49: 2.9 | D49: Distribution Boards
A51: 2.9.1 | B51: Supply, Deliver, Install new 8-way LV Distribution Board | C51: ea | D51: 0 | E51: 2500 | F51: 0.2 | G51: =E51/(1-F51) -> 3125 | H51: =250*1 -> 250 | I51: 0.15 | J51: =H51*(1+I51) -> 287.5 | K51: =J51*D51 -> 0 | L51: =G51+J51 -> 3412.5 | M51: =D51*L51 -> 0
A53: 2.9.2 | B53: Supply, Deliver, Install new 16-way LV Distribution Board | C53: ea | D53: 3 | E53: 5729 | F53: 0.2 | G53: =E53/(1-F53) -> 7161.25 | H53: 250 | I53: 0.15 | J53: =H53*(1+I53) -> 287.5 | K53: =J53*D53 -> 862.5 | L53: =G53+J53 -> 7448.75 | M53: =D53*L53 -> 22346.25
A55: 2.9.3 | B55: Supply, Deliver, Install Surge Arrestor Din 3 Pole+Neutral 20kA 1.3kV type 1 & 2 | C55: ea | D55: 1 | E55: =5729 -> 5729 | F55: 0.2 | G55: =E55/(1-F55) -> 7161.25 | H55: 250 | I55: 0.15 | J55: =H55*(1+I55) -> 287.5 | K55: =J55*D55 -> 287.5 | L55: =G55+J55 -> 7448.75 | M55: =D55*L55 -> 7448.75
A57: 2.9.4 | B57: Supply, Deliver, Install new 300/5A, 10VA Current transformers as required to integrate the new system | C57: ea | D57: 3 | E57: 350 | F57: 0.2 | G57: =E57/(1-F57) -> 437.5 | H57: 250 | I57: 0.15 | J57: =H57*(1+I57) -> 287.5 | K57: =J57*D57 -> 862.5 | L57: =G57+J57 -> 725 | M57: =D57*L57 -> 2175
A59: 2.9.5 | B59: Supply, Deliver, Install & Terminate 7C, 4mm control cable between CT's and Inverter | C59: m | D59: 20 | E59: =35 -> 35 | F59: 0.2 | G59: =E59/(1-F59) -> 43.75 | H59: =(65*3) -> 195 | I59: 0.15 | J59: =H59*(1+I59) -> 224.25 | K59: =J59*D59 -> 4485 | L59: =G59+J59 -> 268 | M59: =D59*L59 -> 5360
A61: 2.9.6 | B61: Disconnect & Remove existing equipment as per scope of works | C61: Sum | D61: 1 | E61: 1 | F61: 0.2 | G61: =E61/(1-F61) -> 1.25 | H61: =2500*3 -> 7500 | I61: 0.15 | J61: =H61*(1+I61) -> 8625 | K61: =J61*D61 -> 8625 | L61: =G61+J61 -> 8626.25 | M61: =D61*L61 -> 8626.25
...

Sheet SECT 2- L Block New - 0PV
A1: BILL OF QUANTITIES
A2: ='[1]SECTION 1-P&G'!A2:K2 -> MUT - Alternative Energy supply
A3: SECTION 2: SOLAR PV / BATTERY SYSTEM
C4: A | D4: B | E4: C | F4: D | G4: E | H4: F | I4: G | J4: H | K4: I | L4: J | M4: K
A5: ITEM No. | B5: DESCRIPTION | C5: UNIT | D5: QUANTITY | E5: SUPPLY RATE (COST) | F5: MARK UP % | G5: SUPPLY RATE (MARKED UP) | H5: Install Rate | I5: MARK UP % | J5: INSTALL RATE (Marked up) | K5: LABOUR TOTAL | L5: RATE (E+H) | M5: TOTAL (BxJ)
A7: 2 | D7: INVERTERS, SOLAR PV MODULES, BATTERIES, AC EQUIPMENT & CABLING
A9: 2.1 | D9: Solar PV Panels
A11: 2.1.2 | B11: L block New -Supply, Deliver, Install, Test & Commission 550W Canadian Solar Super High Power Mono PERC or Equivalent to Engineer's approval. Inclusive of earthing & bonding complete | C11: ea | D11: 0 | E11: =1623.93 -> 1623.93 | F11: 0.25 | G11: =E11/(1-F11) -> 2165.24 | H11: 350 | I11: 0.15 | J11: =H11*(1+I11) -> 402.5 | K11: =J11*D11 -> 0 | L11: =G11+J11 -> 2567.74 | M11: =D11*L11 -> 0
A13: 2.2 | D13: Inverters
A14: 2.2.2 | B14: L Block New-Supply, Deliver, Install, Test & Commission 50kW 3P Sunsynk hybrid inverter | C14: No. | D14: 3 | E14: 87286.19 | F14: 0.2 | G14: =E14/(1-F14) -> 109107.74 | H14: =(550*8)+3600 -> 8000 | I14: 0.15 | J14: =H14*(1+I14) -> 9200 | K14: =J14*D14 -> 27600 | L14: =G14+J14 -> 118307.74 | M14: =D14*L14 -> 354923.21
A16: 2.3 | D16: Automatic Transfer Switch (ATS)
A17: 2.3.2 | B17: L Block New Supply, Deliver, Install, Test & Commission Changeover Switch | C17: No. | D17: 1 | E17: 20000 | F17: 0.2 | G17: =E17/(1-F17) -> 25000 | H17: =(550*4)+3500 -> 5700 | I17: 0.15 | J17: =H17*(1+I17) -> 6555 | K17: =J17*D17 -> 6555 | L17: =G17+J17 -> 31555 | M17: =D17*L17 -> 31555
A18: 2.3.3 | B18: L Block Old Supply, Deliver, Install, Test & Commission Elum SD Genset controller | C18: No. | D18: 1 | E18: 70000 | F18: 0.2 | G18: =E18/(1-F18) -> 87500 | H18: =(550*4)+3500 -> 5700 | I18: 0.15 | J18: =H18*(1+I18) -> 6555 | K18: =J18*D18 -> 6555 | L18: =G18+J18 -> 94055 | M18: =D18*L18 -> 94055
A19: 2.4 | D19: Battery System
A20: 2.4.1 | B20: L Block New-Supply, Deliver, Install, Test & Commission Lithium Batteries to provide backup. 200/160 HV | C20: ea | D20: 3 | E20: =906452.58*1.2 -> 1087743.1 | F20: 0.2 | G20: =E20/(1-F20) -> 1359678.9 | H20: =(550*8)+3600 -> 8000 | I20: 0.15 | J20: =H20*(1+I20) -> 9200 | K20: =J20*D20 -> 27600 | L20: =G20+J20 -> 1368878.9 | M20: =D20*L20 -> 4106636.6
A22: 2.4.4
B23: Supply, Deliver, Install, Test & Commission Fuse Disconnectors with 250A fuses for Battery | C23: No. | D23: 6 | E23: =1888.71*1.15 -> 2172.0165 | F23: 0.2 | G23: =E23/(1-F23) -> 2715.0206 | H23: =250*1 -> 250 | I23: 0.15 | J23: =H23*(1+I23) -> 287.5 | K23: =J23*D23 -> 1725 | L23: =G23+J23 -> 3002.5206 | M23: =D23*L23 -> 18015.124
A25: 2.5 | D25: Mounting Structure, Clamps & Walkways
A26: 2.5.1 | B26: Mounting Structures. Material to be aluminium and must include a 10 year warranty | C26: ea | D26: 1 | E26: 650 | F26: 0.2 | G26: =E26/(1-F26) -> 812.5 | H26: =(((5*200)*4)*1.2)/D26 -> 4800 | I26: 0.15 | J26: =H26*(1+I26) -> 5520 | K26: =J26*D26 -> 5520 | L26: =G26+J26 -> 6332.5 | M26: =D26*L26 -> 6332.5
B27: Cable Support/Wireways etc. Material to be galvanized steel | C27: Sum | D27: 1 | E27: =10000 -> 10000 | F27: 0.2 | G27: =E27/(1-F27) -> 12500 | H27: =2500*3 -> 7500 | I27: 0.15 | J27: =H27*(1+I27) -> 8625 | K27: =J27*D27 -> 8625 | L27: =G27+J27 -> 21125 | M27: =D27*L27 -> 21125
A29: 2.6 | D29: DC Cabling
A30: 2.6.1 | B30: 4mmsq Solar PV DC cables from panels to DC combiner box. Red cable for positive (+) and Black cable for negative (-) to SANS10142-1. UV resistant to EN50618 & TUV certified. Including MC4 connectors complete | C30: m | D30: 0 | E30: =14.85*1.15 -> 17.0775 | F30: 0.2 | G30: =E30/(1-F30) -> 21.346875 | H30: =39 -> 39 | I30: 0.15 | J30: =H30*(1+I30) -> 44.85 | K30: =J30*D30 -> 0 | L30: =G30+J30 -> 66.196875 | M30: =D30*L30 -> 0
A31: 2.6.2 | B31: 70mm2 Single core DC cable for Batteries | C31: m | D31: 6 | E31: =180*1.15 -> 207 | F31: 0.2 | G31: =E31/(1-F31) -> 258.75 | H31: =65 -> 65 | I31: 0.15 | J31: =H31*(1+I31) -> 74.75 | K31: =J31*D31 -> 448.5 | L31: =G31+J31 -> 333.5 | M31: =D31*L31 -> 2001
A32: 2.6.3 | B32: 50mm2 Single core DC cable for Batteries | C32: m | D32: 0 | E32: =190 -> 190 | F32: 0.2 | G32: =E32/(1-F32) -> 237.5 | H32: =65 -> 65 | I32: 0.15 | J32: =H32*(1+I32) -> 74.75 | K32: =J32*D32 -> 0 | L32: =G32+J32 -> 312.25 | M32: =D32*L32 -> 0
B33: 25mm2 Single core DC cable for Batteries | C33: m | D33: 0 | E33: =110 -> 110 | F33: 0.2 | G33: =E33/(1-F33) -> 137.5 | H33: =65 -> 65 | I33: 0.15 | J33: =H33*(1+I33) -> 74.75 | K33: =J33*D33 -> 0 | L33: =G33+J33 -> 212.25 | M33: =D33*L33 -> 0
A35: 2.7 | D35: DC Combiner Box
A36: 2.7.1 | B36: DC Combiner Box including the ffg components: 1000V rating, 1 X MPPT, 8 Inputs & 1 Output, 160A Isolator, Type 1 & 2 Surge Protection device, Inclusive of fuses. | C36: ea | D36: 0 | E36: =13501.37*1.2 -> 16201.644 | F36: 0.2 | G36: =E36/(1-F36) -> 20252.055 | H36: =250*2 -> 500 | I36: 0.15 | J36: =H36*(1+I36) -> 575 | K36: =J36*D36 -> 0 | L36: =G36+J36 -> 20827.055 | M36: =D36*L36 -> 0
A37: 2.7.2 | B37: DC Combiner Box including the ffg components: 1000V rating, 4 X MPPT, 8 Inputs & 8 Output, 160A Isolator, Type 1 & 2 Surge Protection device, Inclusive of fuses. | C37: ea | D37: 0 | E37: =13501.37*1.2 -> 16201.644 | F37: 0.2 | G37: =E37/(1-F37) -> 20252.055 | H37: =250*2 -> 500 | I37: 0.15 | J37: =H37*(1+I37) -> 575 | K37: =J37*D37 -> 0 | L37: =G37+J37 -> 20827.055 | M37: =D37*L37 -> 0
A39: 2.8 | D39: Circuit Breakers
A41: 2.8.1 | B41: Supply, Deliver, Install new 400V, 200A, 6kA, 3P,adjustable MCCB | C41: ea | D41: 3 | E41: 2500 | F41: 0.2 | G41: =E41/(1-F41) -> 3125 | H41: =(250+100)*4 -> 1400 | I41: 0.15 | J41: =H41*(1+I41) -> 1610 | K41: =J41*D41 -> 4830 | L41: =G41+J41 -> 4735 | M41: =D41*L41 -> 14205
A43: 2.8.2 | B43: Supply, Deliver, Install new 400V, 150A, 6kA, 4P, adjustable MCCB | C43: ea | D43: 0 | E43: 1800 | F43: 0.2 | G43: =E43/(1-F43) -> 2250 | H43: =(250+100)*4 -> 1400 | I43: 0.15 | J43: =H43*(1+I43) -> 1610 | K43: =J43*D43 -> 0 | L43: =G43+J43 -> 3860 | M43: =D43*L43 -> 0
A45: 2.8.3 | B45: Supply, Deliver, Install new 400V, 80A, 6kA, 3P, MCB | C45: ea | D45: =2 + N("Isolators") -> 2 | E45: 1734.1 | F45: 0.2 | G45: =E45/(1-F45) -> 2167.625 | H45: =(250+100)*4 -> 1400 | I45: 0.15 | J45: =H45*(1+I45) -> 1610 | K45: =J45*D45 -> 3220 | L45: =G45+J45 -> 3777.625 | M45: =D45*L45 -> 7555.25
A47: 2.8.4 | B47: Supply, Deliver, Install new 400V, 80A, 4P N/O Contactor | C47: ea | D47: 1 | E47: =550*1.2 -> 660 | F47: 0.2 | G47: =E47/(1-F47) -> 825 | H47: =(250+100)*4 -> 1400 | I47: 0.15 | J47: =H47*(1+I47) -> 1610 | K47: =J47*D47 -> 1610 | L47: =G47+J47 -> 2435 | M47: =D47*L47 -> 2435
A49: 2.9 | D49: Distribution Boards
A51: 2.9.1 | B51: Supply, Deliver, Install new 8-way LV Distribution Board | C51: ea | D51: 0 | E51: 2500 | F51: 0.2 | G51: =E51/(1-F51) -> 3125 | H51: =250*1 -> 250 | I51: 0.15 | J51: =H51*(1+I51) -> 287.5 | K51: =J51*D51 -> 0 | L51: =G51+J51 -> 3412.5 | M51: =D51*L51 -> 0
A53: 2.9.2 | B53: Supply, Deliver, Install new 16-way LV Distribution Board | C53: ea | D53: 3 | E53: 5729 | F53: 0.2 | G53: =E53/(1-F53) -> 7161.25 | H53: 250 | I53: 0.15 | J53: =H53*(1+I53) -> 287.5 | K53: =J53*D53 -> 862.5 | L53: =G53+J53 -> 7448.75 | M53: =D53*L53 -> 22346.25
A55: 2.9.3 | B55: Supply, Deliver, Install Surge Arrestor Din 3 Pole+Neutral 20kA 1.3kV type 1 & 2 | C55: ea | D55: 1 | E55: =5729 -> 5729 | F55: 0.2 | G55: =E55/(1-F55) -> 7161.25 | H55: 250 | I55: 0.15 | J55: =H55*(1+I55) -> 287.5 | K55: =J55*D55 -> 287.5 | L55: =G55+J55 -> 7448.75 | M55: =D55*L55 -> 7448.75
A57: 2.9.4 | B57: Supply, Deliver, Install new 300/5A, 10VA Current transformers as required to integrate the new system | C57: ea | D57: 3 | E57: 350 | F57: 0.2 | G57: =E57/(1-F57) -> 437.5 | H57: 250 | I57: 0.15 | J57: =H57*(1+I57) -> 287.5 | K57: =J57*D57 -> 862.5 | L57: =G57+J57 -> 725 | M57: =D57*L57 -> 2175
A59: 2.9.5 | B59: Supply, Deliver, Install & Terminate 7C, 4mm control cable between CT's and Inverter | C59: m | D59: 20 | E59: =35 -> 35 | F59: 0.2 | G59: =E59/(1-F59) -> 43.75 | H59: =(65*3) -> 195 | I59: 0.15 | J59: =H59*(1+I59) -> 224.25 | K59: =J59*D59 -> 4485 | L59: =G59+J59 -> 268 | M59: =D59*L59 -> 5360
A61: 2.9.6 | B61: Disconnect & Remove existing equipment as per scope of works | C61: Sum | D61: 1 | E61: 1 | F61: 0.2 | G61: =E61/(1-F61) -> 1.25 | H61: =2500*3 -> 7500 | I61: 0.15 | J61: =H61*(1+I61) -> 8625 | K61: =J61*D61 -> 8625 | L61: =G61+J61 -> 8626.25 | M61: =D61*L61 -> 8626.25
...

Sheet SECT 2- L Block New - 0PV&2.5hr
A1: BILL OF QUANTITIES
A2: ='[1]SECTION 1-P&G'!A2:K2 -> MUT - Alternative Energy supply
A3: SECTION 2: SOLAR PV / BATTERY SYSTEM
C4: A | D4: B | E4: C | F4: D | G4: E | H4: F | I4: G | J4: H | K4: I | L4: J | M4: K
A5: ITEM No. | B5: DESCRIPTION | C5: UNIT | D5: QUANTITY | E5: SUPPLY RATE (COST) | F5: MARK UP % | G5: SUPPLY RATE (MARKED UP) | H5: Install Rate | I5: MARK UP % | J5: INSTALL RATE (Marked up) | K5: LABOUR TOTAL | L5: RATE (E+H) | M5: TOTAL (BxJ)
A7: 2 | D7: INVERTERS, SOLAR PV MODULES, BATTERIES, AC EQUIPMENT & CABLING
A9: 2.1 | D9: Solar PV Panels
A11: 2.1.2 | B11: L block New -Supply, Deliver, Install, Test & Commission 550W Canadian Solar Super High Power Mono PERC or Equivalent to Engineer's approval. Inclusive of earthing & bonding complete | C11: ea | D11: 0 | E11: =1623.93 -> 1623.93 | F11: 0.25 | G11: =E11/(1-F11) -> 2165.24 | H11: 350 | I11: 0.15 | J11: =H11*(1+I11) -> 402.5 | K11: =J11*D11 -> 0 | L11: =G11+J11 -> 2567.74 | M11: =D11*L11 -> 0
A13: 2.2 | D13: Inverters
A14: 2.2.2 | B14: L Block New-Supply, Deliver, Install, Test & Commission 50kW 3P Sunsynk hybrid inverter | C14: No. | D14: 3 | E14: 87286.19 | F14: 0.2 | G14: =E14/(1-F14) -> 109107.74 | H14: =(550*8)+3600 -> 8000 | I14: 0.15 | J14: =H14*(1+I14) -> 9200 | K14: =J14*D14 -> 27600 | L14: =G14+J14 -> 118307.74 | M14: =D14*L14 -> 354923.21
A16: 2.3 | D16: Automatic Transfer Switch (ATS)
A17: 2.3.2 | B17: L Block New Supply, Deliver, Install, Test & Commission Changeover Switch | C17: No. | D17: 1 | E17: 20000 | F17: 0.2 | G17: =E17/(1-F17) -> 25000 | H17: =(550*4)+3500 -> 5700 | I17: 0.15 | J17: =H17*(1+I17) -> 6555 | K17: =J17*D17 -> 6555 | L17: =G17+J17 -> 31555 | M17: =D17*L17 -> 31555
A18: 2.3.3 | B18: L Block Old Supply, Deliver, Install, Test & Commission Elum SD Genset controller | C18: No. | D18: 1 | E18: 70000 | F18: 0.2 | G18: =E18/(1-F18) -> 87500 | H18: =(550*4)+3500 -> 5700 | I18: 0.15 | J18: =H18*(1+I18) -> 6555 | K18: =J18*D18 -> 6555 | L18: =G18+J18 -> 94055 | M18: =D18*L18 -> 94055
A19: 2.4 | D19: Battery System
A20: 2.4.1 | B20: L Block New-Supply, Deliver, Install, Test & Commission Lithium Batteries to provide backup. 100/80 HV | C20: ea | D20: 3 | E20: =460896.21*1.2 -> 553075.45 | F20: 0.2 | G20: =E20/(1-F20) -> 691344.32 | H20: =(550*8)+3600 -> 8000 | I20: 0.15 | J20: =H20*(1+I20) -> 9200 | K20: =J20*D20 -> 27600 | L20: =G20+J20 -> 700544.32 | M20: =D20*L20 -> 2101632.9
A22: 2.4.4
B23: Supply, Deliver, Install, Test & Commission Fuse Disconnectors with 250A fuses for Battery | C23: No. | D23: 3 | E23: =1888.71*1.15 -> 2172.0165 | F23: 0.2 | G23: =E23/(1-F23) -> 2715.0206 | H23: =250*1 -> 250 | I23: 0.15 | J23: =H23*(1+I23) -> 287.5 | K23: =J23*D23 -> 862.5 | L23: =G23+J23 -> 3002.5206 | M23: =D23*L23 -> 9007.5619
A25: 2.5 | D25: Mounting Structure, Clamps & Walkways
A26: 2.5.1 | B26: Mounting Structures. Material to be aluminium and must include a 10 year warranty | C26: ea | D26: 1 | E26: 650 | F26: 0.2 | G26: =E26/(1-F26) -> 812.5 | H26: =(((5*200)*4)*1.2)/D26 -> 4800 | I26: 0.15 | J26: =H26*(1+I26) -> 5520 | K26: =J26*D26 -> 5520 | L26: =G26+J26 -> 6332.5 | M26: =D26*L26 -> 6332.5
B27: Cable Support/Wireways etc. Material to be galvanized steel | C27: Sum | D27: 1 | E27: =10000 -> 10000 | F27: 0.2 | G27: =E27/(1-F27) -> 12500 | H27: =2500*3 -> 7500 | I27: 0.15 | J27: =H27*(1+I27) -> 8625 | K27: =J27*D27 -> 8625 | L27: =G27+J27 -> 21125 | M27: =D27*L27 -> 21125
A29: 2.6 | D29: DC Cabling
A30: 2.6.1 | B30: 4mmsq Solar PV DC cables from panels to DC combiner box. Red cable for positive (+) and Black cable for negative (-) to SANS10142-1. UV resistant to EN50618 & TUV certified. Including MC4 connectors complete | C30: m | D30: 0 | E30: =14.85*1.15 -> 17.0775 | F30: 0.2 | G30: =E30/(1-F30) -> 21.346875 | H30: =39 -> 39 | I30: 0.15 | J30: =H30*(1+I30) -> 44.85 | K30: =J30*D30 -> 0 | L30: =G30+J30 -> 66.196875 | M30: =D30*L30 -> 0
A31: 2.6.2 | B31: 70mm2 Single core DC cable for Batteries | C31: m | D31: 6 | E31: =180*1.15 -> 207 | F31: 0.2 | G31: =E31/(1-F31) -> 258.75 | H31: =65 -> 65 | I31: 0.15 | J31: =H31*(1+I31) -> 74.75 | K31: =J31*D31 -> 448.5 | L31: =G31+J31 -> 333.5 | M31: =D31*L31 -> 2001
A32: 2.6.3 | B32: 50mm2 Single core DC cable for Batteries | C32: m | D32: 0 | E32: =190 -> 190 | F32: 0.2 | G32: =E32/(1-F32) -> 237.5 | H32: =65 -> 65 | I32: 0.15 | J32: =H32*(1+I32) -> 74.75 | K32: =J32*D32 -> 0 | L32: =G32+J32 -> 312.25 | M32: =D32*L32 -> 0
B33: 25mm2 Single core DC cable for Batteries | C33: m | D33: 0 | E33: =110 -> 110 | F33: 0.2 | G33: =E33/(1-F33) -> 137.5 | H33: =65 -> 65 | I33: 0.15 | J33: =H33*(1+I33) -> 74.75 | K33: =J33*D33 -> 0 | L33: =G33+J33 -> 212.25 | M33: =D33*L33 -> 0
A35: 2.7 | D35: DC Combiner Box
A36: 2.7.1 | B36: DC Combiner Box including the ffg components: 1000V rating, 1 X MPPT, 8 Inputs & 1 Output, 160A Isolator, Type 1 & 2 Surge Protection device, Inclusive of fuses. | C36: ea | D36: 0 | E36: =13501.37*1.2 -> 16201.644 | F36: 0.2 | G36: =E36/(1-F36) -> 20252.055 | H36: =250*2 -> 500 | I36: 0.15 | J36: =H36*(1+I36) -> 575 | K36: =J36*D36 -> 0 | L36: =G36+J36 -> 20827.055 | M36: =D36*L36 -> 0
A37: 2.7.2 | B37: DC Combiner Box including the ffg components: 1000V rating, 4 X MPPT, 8 Inputs & 8 Output, 160A Isolator, Type 1 & 2 Surge Protection device, Inclusive of fuses. | C37: ea | D37: 0 | E37: =13501.37*1.2 -> 16201.644 | F37: 0.2 | G37: =E37/(1-F37) -> 20252.055 | H37: =250*2 -> 500 | I37: 0.15 | J37: =H37*(1+I37) -> 575 | K37: =J37*D37 -> 0 | L37: =G37+J37 -> 20827.055 | M37: =D37*L37 -> 0
A39: 2.8 | D39: Circuit Breakers
A41: 2.8.1 | B41: Supply, Deliver, Install new 400V, 200A, 6kA, 3P,adjustable MCCB | C41: ea | D41: 3 | E41: 2500 | F41: 0.2 | G41: =E41/(1-F41) -> 3125 | H41: =(250+100)*4 -> 1400 | I41: 0.15 | J41: =H41*(1+I41) -> 1610 | K41: =J41*D41 -> 4830 | L41: =G41+J41 -> 4735 | M41: =D41*L41 -> 14205
A43: 2.8.2 | B43: Supply, Deliver, Install new 400V, 150A, 6kA, 4P, adjustable MCCB | C43: ea | D43: 0 | E43: 1800 | F43: 0.2 | G43: =E43/(1-F43) -> 2250 | H43: =(250+100)*4 -> 1400 | I43: 0.15 | J43: =H43*(1+I43) -> 1610 | K43: =J43*D43 -> 0 | L43: =G43+J43 -> 3860 | M43: =D43*L43 -> 0
A45: 2.8.3 | B45: Supply, Deliver, Install new 400V, 80A, 6kA, 3P, MCB | C45: ea | D45: =2 + N("Isolators") -> 2 | E45: 1734.1 | F45: 0.2 | G45: =E45/(1-F45) -> 2167.625 | H45: =(250+100)*4 -> 1400 | I45: 0.15 | J45: =H45*(1+I45) -> 1610 | K45: =J45*D45 -> 3220 | L45: =G45+J45 -> 3777.625 | M45: =D45*L45 -> 7555.25
A47: 2.8.4 | B47: Supply, Deliver, Install new 400V, 80A, 4P N/O Contactor | C47: ea | D47: 1 | E47: =550*1.2 -> 660 | F47: 0.2 | G47: =E47/(1-F47) -> 825 | H47: =(250+100)*4 -> 1400 | I47: 0.15 | J47: =H47*(1+I47) -> 1610 | K47: =J47*D47 -> 1610 | L47: =G47+J47 -> 2435 | M47: =D47*L47 -> 2435
A49: 2.9 | D49: Distribution Boards
A51: 2.9.1 | B51: Supply, Deliver, Install new 8-way LV Distribution Board | C51: ea | D51: 0 | E51: 2500 | F51: 0.2 | G51: =E51/(1-F51) -> 3125 | H51: =250*1 -> 250 | I51: 0.15 | J51: =H51*(1+I51) -> 287.5 | K51: =J51*D51 -> 0 | L51: =G51+J51 -> 3412.5 | M51: =D51*L51 -> 0
A53: 2.9.2 | B53: Supply, Deliver, Install new 16-way LV Distribution Board | C53: ea | D53: 3 | E53: 5729 | F53: 0.2 | G53: =E53/(1-F53) -> 7161.25 | H53: 250 | I53: 0.15 | J53: =H53*(1+I53) -> 287.5 | K53: =J53*D53 -> 862.5 | L53: =G53+J53 -> 7448.75 | M53: =D53*L53 -> 22346.25
A55: 2.9.3 | B55: Supply, Deliver, Install Surge Arrestor Din 3 Pole+Neutral 20kA 1.3kV type 1 & 2 | C55: ea | D55: 1 | E55: =5729 -> 5729 | F55: 0.2 | G55: =E55/(1-F55) -> 7161.25 | H55: 250 | I55: 0.15 | J55: =H55*(1+I55) -> 287.5 | K55: =J55*D55 -> 287.5 | L55: =G55+J55 -> 7448.75 | M55: =D55*L55 -> 7448.75
A57: 2.9.4 | B57: Supply, Deliver, Install new 300/5A, 10VA Current transformers as required to integrate the new system | C57: ea | D57: 3 | E57: 350 | F57: 0.2 | G57: =E57/(1-F57) -> 437.5 | H57: 250 | I57: 0.15 | J57: =H57*(1+I57) -> 287.5 | K57: =J57*D57 -> 862.5 | L57: =G57+J57 -> 725 | M57: =D57*L57 -> 2175
A59: 2.9.5 | B59: Supply, Deliver, Install & Terminate 7C, 4mm control cable between CT's and Inverter | C59: m | D59: 20 | E59: =35 -> 35 | F59: 0.2 | G59: =E59/(1-F59) -> 43.75 | H59: =(65*3) -> 195 | I59: 0.15 | J59: =H59*(1+I59) -> 224.25 | K59: =J59*D59 -> 4485 | L59: =G59+J59 -> 268 | M59: =D59*L59 -> 5360
A61: 2.9.6 | B61: Disconnect & Remove existing equipment as per scope of works | C61: Sum | D61: 1 | E61: 1 | F61: 0.2 | G61: =E61/(1-F61) -> 1.25 | H61: =2500*3 -> 7500 | I61: 0.15 | J61: =H61*(1+I61) -> 8625 | K61: =J61*D61 -> 8625 | L61: =G61+J61 -> 8626.25 | M61: =D61*L61 -> 8626.25
...

Sheet SECT 2- N Block
A1: BILL OF QUANTITIES
A2: ='SECTION 1-P&G'!C8:H8 -> #VALUE!
A3: SECTION 2: SOLAR PV / BATTERY SYSTEM
C4: A | D4: B | E4: C | F4: D | G4: E | H4: F | I4: G | J4: H | K4: I | L4: J | M4: K
A5: ITEM No. | B5: DESCRIPTION | C5: UNIT | D5: QUANTITY | E5: SUPPLY RATE (COST) | F5: MARK UP % | G5: SUPPLY RATE (MARKED UP) | H5: Install Rate | I5: MARK UP % | J5: INSTALL RATE (Marked up) | K5: LABOUR TOTAL | L5: RATE (E+H) | M5: TOTAL (BxJ)
A7: 2 | D7: INVERTERS, SOLAR PV MODULES, BATTERIES, AC EQUIPMENT & CABLING
A9: 2.1 | D9: Solar PV Panels
A11: 2.1.3 | B11: N block -Supply, Deliver, Install, Test & Commission 550W Canadian Solar Super High Power Mono PERC or Equivalent to Engineer's approval. Inclusive of earthing & bonding complete | C11: ea | D11: 11 | E11: =1623.93 -> 1623.93 | F11: 0.25 | G11: =E11/(1-F11) -> 2165.24 | H11: 350 | I11: 0.15 | J11: =H11*(1+I11) -> 402.5 | K11: =J11*D11 -> 4427.5 | L11: =G11+J11 -> 2567.74 | M11: =D11*L11 -> 28245.14
A13: 2.2 | D13: Inverters
A14: 2.2.2 | B14: N Block -Supply, Deliver, Install, Test & Commission 5kW 1P Sunsynk hybrid inverter | C14: ea | D14: 1 | E14: 16062.21 | F14: 0.2 | G14: =E14/(1-F14) -> 20077.762 | H14: =(550*8)+3600 -> 8000 | I14: 0.15 | J14: =H14*(1+I14) -> 9200 | K14: =J14*D14 -> 9200 | L14: =G14+J14 -> 29277.762 | M14: =D14*L14 -> 29277.762
A16: 2.3 | D16: Automatic Transfer Switch (ATS)
A17: 2.3.2 | B17: N Block Supply, Deliver, Install, Test & Commission Changeover Switch | C17: No. | D17: 1 | E17: 13730 | F17: 0.2 | G17: =E17/(1-F17) -> 17162.5 | H17: =(550*4)+3500 -> 5700 | I17: 0.15 | J17: =H17*(1+I17) -> 6555 | K17: =J17*D17 -> 6555 | L17: =G17+J17 -> 23717.5 | M17: =D17*L17 -> 23717.5
A18: 2.3.3 | B18: N Block Supply, Deliver, Install, Test & Commission Elum SD Genset controller | C18: No. | D18: 1 | E18: 70000 | F18: 0.2 | G18: =E18/(1-F18) -> 87500 | H18: =(550*4)+3500 -> 5700 | I18: 0.15 | J18: =H18*(1+I18) -> 6555 | K18: =J18*D18 -> 6555 | L18: =G18+J18 -> 94055 | M18: =D18*L18 -> 94055
A19: 2.4 | D19: Battery System
A20: 2.4.1 | B20: N Block -Supply, Deliver, Install, Test & Commission Lithium Batteries to provide backup. 15/12 LV | C20: Sum | D20: 1 | E20: 68381.67 | F20: 0.2 | G20: =E20/(1-F20) -> 85477.087 | H20: =(550*8)+3600 -> 8000 | I20: 0.15 | J20: =H20*(1+I20) -> 9200 | K20: =J20*D20 -> 9200 | L20: =G20+J20 -> 94677.087 | M20: =D20*L20 -> 94677.087
A22: 2.4.4
B23: Supply, Deliver, Install, Test & Commission Fuse Disconnectors with 250A fuses for Battery | C23: No. | D23: 4 | E23: =1888.71*1.15 -> 2172.0165 | F23: 0.2 | G23: =E23/(1-F23) -> 2715.0206 | H23: =250*1 -> 250 | I23: 0.15 | J23: =H23*(1+I23) -> 287.5 | K23: =J23*D23 -> 1150 | L23: =G23+J23 -> 3002.5206 | M23: =D23*L23 -> 12010.082
A25: 2.5 | D25: Mounting Structure, Clamps & Walkways
A26: 2.5.1 | B26: Mounting Structures. Material to be aluminium and must include a 10 year warranty | C26: ea | D26: =D11 -> 11 | E26: 650 | F26: 0.2 | G26: =E26/(1-F26) -> 812.5 | H26: =(((5*200)*4)*1.2)/D26 -> 436.36364 | I26: 0.15 | J26: =H26*(1+I26) -> 501.81818 | K26: =J26*D26 -> 5520 | L26: =G26+J26 -> 1314.3182 | M26: =D26*L26 -> 14457.5
